BEGIN:VCALENDAR
VERSION:2.0
PRODID:-//Golf Club of Dublin - ECPv6.15.18//NONSGML v1.0//EN
CALSCALE:GREGORIAN
METHOD:PUBLISH
X-ORIGINAL-URL:https://www.golfclubofdublin.com
X-WR-CALDESC:Events for Golf Club of Dublin
REFRESH-INTERVAL;VALUE=DURATION:PT1H
X-Robots-Tag:noindex
X-PUBLISHED-TTL:PT1H
BEGIN:VTIMEZONE
TZID:UTC
BEGIN:STANDARD
TZOFFSETFROM:+0000
TZOFFSETTO:+0000
TZNAME:UTC
DTSTART:20220101T000000
END:STANDARD
END:VTIMEZONE
BEGIN:VEVENT
DTSTART;TZID=UTC:20230915T140000
DTEND;TZID=UTC:20230915T200000
DTSTAMP:20260419T230644
CREATED:20230830T164745Z
LAST-MODIFIED:20230911T164547Z
UID:10000010-1694786400-1694808000@www.golfclubofdublin.com
SUMMARY:Corona Scramble
DESCRIPTION:Swing into Fun at the Corona Scramble! \n  \nThe Golf Club of Dublin presents our Corona Scramble \n  \nDate: Friday\, September 15th\, 2023 \nTime: 2:00 PM  | Shotgun Start \nFormat: 4-Person Scramble \nCost: $440 per Team ($110 Per Player) \nIncludes:  \n\n18 Holes of Golf\nCart\nProximities\nPrizes\nTee Gift\nMexican Fiesta Buffet and Draft Beer After Play\nMargarita\, Corona Premier & Corona Extra Specials\n\n  \nClick HERE to Register. \n  \n  \nJoin the Fun – Register Your Team Today!
URL:https://www.golfclubofdublin.com/event/corona-scramble/
ATTACH;FMTTYPE=image/jpeg:https://www.golfclubofdublin.com/wp-content/uploads/sites/8863/2023/08/Corona-Scramble-Flyer.jpg
END:VEVENT
BEGIN:VEVENT
DTSTART;TZID=UTC:20230915T183000
DTEND;TZID=UTC:20230915T213000
DTSTAMP:20260419T230644
CREATED:20230911T164919Z
LAST-MODIFIED:20230911T164919Z
UID:10000012-1694802600-1694813400@www.golfclubofdublin.com
SUMMARY:Live Music on the Patio
DESCRIPTION:
URL:https://www.golfclubofdublin.com/event/live-music-on-the-patio-2/
CATEGORIES:Pub
ATTACH;FMTTYPE=image/png:https://www.golfclubofdublin.com/wp-content/uploads/sites/8863/2023/09/9.15.23.png
END:VEVENT
END:VCALENDAR