BEGIN:VCALENDAR
VERSION:2.0
PRODID:-//Golf Club of Dublin - ECPv6.15.18//NONSGML v1.0//EN
CALSCALE:GREGORIAN
METHOD:PUBLISH
X-ORIGINAL-URL:https://www.golfclubofdublin.com
X-WR-CALDESC:Events for Golf Club of Dublin
REFRESH-INTERVAL;VALUE=DURATION:PT1H
X-Robots-Tag:noindex
X-PUBLISHED-TTL:PT1H
BEGIN:VTIMEZONE
TZID:America/New_York
BEGIN:DAYLIGHT
TZOFFSETFROM:-0500
TZOFFSETTO:-0400
TZNAME:EDT
DTSTART:20250309T070000
END:DAYLIGHT
BEGIN:STANDARD
TZOFFSETFROM:-0400
TZOFFSETTO:-0500
TZNAME:EST
DTSTART:20251102T060000
END:STANDARD
BEGIN:DAYLIGHT
TZOFFSETFROM:-0500
TZOFFSETTO:-0400
TZNAME:EDT
DTSTART:20260308T070000
END:DAYLIGHT
BEGIN:STANDARD
TZOFFSETFROM:-0400
TZOFFSETTO:-0500
TZNAME:EST
DTSTART:20261101T060000
END:STANDARD
BEGIN:DAYLIGHT
TZOFFSETFROM:-0500
TZOFFSETTO:-0400
TZNAME:EDT
DTSTART:20270314T070000
END:DAYLIGHT
BEGIN:STANDARD
TZOFFSETFROM:-0400
TZOFFSETTO:-0500
TZNAME:EST
DTSTART:20271107T060000
END:STANDARD
END:VTIMEZONE
BEGIN:VEVENT
DTSTART;TZID=America/New_York:20260225T180000
DTEND;TZID=America/New_York:20260225T203000
DTSTAMP:20260422T080302
CREATED:20251209T213435Z
LAST-MODIFIED:20251209T213435Z
UID:10000244-1772042400-1772051400@www.golfclubofdublin.com
SUMMARY:Winter Indoor Cornhole League
DESCRIPTION:Join the Ultimate Indoor Winter Cornhole League at the Golf Club of Dublin – Toss\, Score\, and Win! \n\nWednesday Nights: 6:00 pm – 8:30 pm\n$100 entry per 2-person Team\n8 Weeks:  January 7th\, 14th\, 21st\, 28th\, February 4th\, 11th\, 18th\, 25th\nPlayoffs March 4th (Gift Certificates will be Awarded)\nPlay Two “Best of Three” Matches each Night\nMaximum of 20 Teams\nFood and Drink Specials Nightly!\n\nDon’t miss out on the chance to be a part of the Winter Cornhole League action. Register today\, secure your spot\, and let the bean bags fly! \nRegister: HERE
URL:https://www.golfclubofdublin.com/event/winter-indoor-cornhole-league/2026-02-25/
LOCATION:The Golf Club of Dublin
ATTACH;FMTTYPE=image/png:https://www.golfclubofdublin.com/wp-content/uploads/sites/8863/2025/12/Winter-cornhole-GCD-2026.png
END:VEVENT
END:VCALENDAR