BEGIN:VCALENDAR
VERSION:2.0
PRODID:-//Golf Club of Dublin - ECPv6.15.18//NONSGML v1.0//EN
CALSCALE:GREGORIAN
METHOD:PUBLISH
X-WR-CALNAME:Golf Club of Dublin
X-ORIGINAL-URL:https://www.golfclubofdublin.com
X-WR-CALDESC:Events for Golf Club of Dublin
REFRESH-INTERVAL;VALUE=DURATION:PT1H
X-Robots-Tag:noindex
X-PUBLISHED-TTL:PT1H
BEGIN:VTIMEZONE
TZID:America/New_York
BEGIN:DAYLIGHT
TZOFFSETFROM:-0500
TZOFFSETTO:-0400
TZNAME:EDT
DTSTART:20250309T070000
END:DAYLIGHT
BEGIN:STANDARD
TZOFFSETFROM:-0400
TZOFFSETTO:-0500
TZNAME:EST
DTSTART:20251102T060000
END:STANDARD
BEGIN:DAYLIGHT
TZOFFSETFROM:-0500
TZOFFSETTO:-0400
TZNAME:EDT
DTSTART:20260308T070000
END:DAYLIGHT
BEGIN:STANDARD
TZOFFSETFROM:-0400
TZOFFSETTO:-0500
TZNAME:EST
DTSTART:20261101T060000
END:STANDARD
BEGIN:DAYLIGHT
TZOFFSETFROM:-0500
TZOFFSETTO:-0400
TZNAME:EDT
DTSTART:20270314T070000
END:DAYLIGHT
BEGIN:STANDARD
TZOFFSETFROM:-0400
TZOFFSETTO:-0500
TZNAME:EST
DTSTART:20271107T060000
END:STANDARD
END:VTIMEZONE
BEGIN:VEVENT
DTSTART;TZID=America/New_York:20260226T183000
DTEND;TZID=America/New_York:20260226T183000
DTSTAMP:20260422T080341
CREATED:20251209T213652Z
LAST-MODIFIED:20251209T213652Z
UID:10000253-1772130600-1772130600@www.golfclubofdublin.com
SUMMARY:Winter Euchre League
DESCRIPTION:Deal Yourself in for Winter Fun: Join Our Winter Euchre League!  \n  \nAs the air turns chilly and winter settles in\, there’s no better way to brighten the season than by joining our Winter Euchre League! \nWhether you’re a seasoned player or just looking for some lighthearted fun\, our league offers the perfect blend of friendly competition and cozy camaraderie. \n\nThursday Evenings 6:30 pm Start\nTwo-Person Teams ($100/Team)\nLimited to First 20 Teams to Register\nThree Matches Played Nightly\n8 Weeks: January 8th\, 15th\, 22nd\, 29th\, February 5th\, 12th\, 19th\, 26th\nPlayoffs March 5th (Gift Certificates will be awarded)\nFood and Drink Specials Nightly\n\n Register: HERE \nSee you at the table!
URL:https://www.golfclubofdublin.com/event/winter-euchre-league/2026-02-26/
LOCATION:The Golf Club of Dublin
ATTACH;FMTTYPE=image/png:https://www.golfclubofdublin.com/wp-content/uploads/sites/8863/2025/12/GCD-Winter-Euchre-2026.png
END:VEVENT
END:VCALENDAR