BEGIN:VCALENDAR
VERSION:2.0
PRODID:-//Golf Club of Dublin - ECPv6.15.18//NONSGML v1.0//EN
CALSCALE:GREGORIAN
METHOD:PUBLISH
X-ORIGINAL-URL:https://www.golfclubofdublin.com
X-WR-CALDESC:Events for Golf Club of Dublin
REFRESH-INTERVAL;VALUE=DURATION:PT1H
X-Robots-Tag:noindex
X-PUBLISHED-TTL:PT1H
BEGIN:VTIMEZONE
TZID:America/New_York
BEGIN:DAYLIGHT
TZOFFSETFROM:-0500
TZOFFSETTO:-0400
TZNAME:EDT
DTSTART:20250309T070000
END:DAYLIGHT
BEGIN:STANDARD
TZOFFSETFROM:-0400
TZOFFSETTO:-0500
TZNAME:EST
DTSTART:20251102T060000
END:STANDARD
BEGIN:DAYLIGHT
TZOFFSETFROM:-0500
TZOFFSETTO:-0400
TZNAME:EDT
DTSTART:20260308T070000
END:DAYLIGHT
BEGIN:STANDARD
TZOFFSETFROM:-0400
TZOFFSETTO:-0500
TZNAME:EST
DTSTART:20261101T060000
END:STANDARD
BEGIN:DAYLIGHT
TZOFFSETFROM:-0500
TZOFFSETTO:-0400
TZNAME:EDT
DTSTART:20270314T070000
END:DAYLIGHT
BEGIN:STANDARD
TZOFFSETFROM:-0400
TZOFFSETTO:-0500
TZNAME:EST
DTSTART:20271107T060000
END:STANDARD
END:VTIMEZONE
BEGIN:VEVENT
DTSTART;TZID=America/New_York:20260510T093000
DTEND;TZID=America/New_York:20260510T140000
DTSTAMP:20260422T045005
CREATED:20260325T224042Z
LAST-MODIFIED:20260325T224042Z
UID:10000322-1778405400-1778421600@www.golfclubofdublin.com
SUMMARY:Mother's Day Brunch
DESCRIPTION:Join us at Golf Club of Dublin for a special Mother’s Day Brunch\, featuring a thoughtfully curated menu and a beautiful setting to celebrate the moms in your life. \nDate: Sunday\, May 10th\, 2026 \nSeating Times Available:\n9:45 AM | 10:15 AM | 12:15 PM | 12:45 PM \nPricing:\nAdults – $59\nChildren (Ages 4–12) – $22\nChildren 3 & Under – Free*\n*Pricing includes tax and service charge \nTreat Mom to a relaxing and memorable brunch experience—perfect for the whole family. \nReservations are limited\, so be sure to secure your table early! \nClick HERE to reserve your table. \nWe look forward to celebrating with you 🌷
URL:https://www.golfclubofdublin.com/event/mothers-day-brunch-3/
ATTACH;FMTTYPE=image/png:https://www.golfclubofdublin.com/wp-content/uploads/sites/8863/2026/03/GCD-Mothers-Day.png
END:VEVENT
END:VCALENDAR