BEGIN:VCALENDAR
VERSION:2.0
PRODID:-//Golf Club of Dublin - ECPv6.15.18//NONSGML v1.0//EN
CALSCALE:GREGORIAN
METHOD:PUBLISH
X-ORIGINAL-URL:https://www.golfclubofdublin.com
X-WR-CALDESC:Events for Golf Club of Dublin
REFRESH-INTERVAL;VALUE=DURATION:PT1H
X-Robots-Tag:noindex
X-PUBLISHED-TTL:PT1H
BEGIN:VTIMEZONE
TZID:America/New_York
BEGIN:DAYLIGHT
TZOFFSETFROM:-0500
TZOFFSETTO:-0400
TZNAME:EDT
DTSTART:20230312T070000
END:DAYLIGHT
BEGIN:STANDARD
TZOFFSETFROM:-0400
TZOFFSETTO:-0500
TZNAME:EST
DTSTART:20231105T060000
END:STANDARD
BEGIN:DAYLIGHT
TZOFFSETFROM:-0500
TZOFFSETTO:-0400
TZNAME:EDT
DTSTART:20240310T070000
END:DAYLIGHT
BEGIN:STANDARD
TZOFFSETFROM:-0400
TZOFFSETTO:-0500
TZNAME:EST
DTSTART:20241103T060000
END:STANDARD
BEGIN:DAYLIGHT
TZOFFSETFROM:-0500
TZOFFSETTO:-0400
TZNAME:EDT
DTSTART:20250309T070000
END:DAYLIGHT
BEGIN:STANDARD
TZOFFSETFROM:-0400
TZOFFSETTO:-0500
TZNAME:EST
DTSTART:20251102T060000
END:STANDARD
END:VTIMEZONE
BEGIN:VTIMEZONE
TZID:UTC
BEGIN:STANDARD
TZOFFSETFROM:+0000
TZOFFSETTO:+0000
TZNAME:UTC
DTSTART:20220101T000000
END:STANDARD
END:VTIMEZONE
BEGIN:VEVENT
DTSTART;TZID=America/New_York:20240712T180000
DTEND;TZID=America/New_York:20240712T210000
DTSTAMP:20260421T051928
CREATED:20240701T162650Z
LAST-MODIFIED:20240701T162655Z
UID:10000050-1720807200-1720818000@www.golfclubofdublin.com
SUMMARY:Couples Twilight Golf
DESCRIPTION:
URL:https://www.golfclubofdublin.com/event/couples-twilight-golf-4/
CATEGORIES:Golf,Social Event
END:VEVENT
BEGIN:VEVENT
DTSTART;TZID=America/New_York:20240629T130000
DTEND;TZID=America/New_York:20240629T200000
DTSTAMP:20260421T051928
CREATED:20240530T110133Z
LAST-MODIFIED:20240530T112610Z
UID:10000045-1719666000-1719691200@www.golfclubofdublin.com
SUMMARY:Stars & Stripes Scramble
DESCRIPTION:Golf Club of Dublin  \nStars & Stripes Scramble \nBenefitting the Folds of Honor \n  \n$20 per player will be going directly to the Folds of Honor \n  \nDate: Saturday\, June 29\, 2024 \nTime: 2:00 pm Shotgun \nFormat: 4-Person Scramble \nCost: $440 per team \nIncludes: 18 holes of golf\, cart\, range balls\, tee gift\, prizes\, proximities\, keg beer during dinner & Picnic Buffet. \n  \nClick HERE to register. \n  \nAdditional Games at Registration: \n\nSkins Game ~ $20 per team (If there are no skins the $$$ will go to the Folds of Honor)\nMulligans ~ $20 per team (4 mulligans per team) – all money from this will go to the Folds of Honor\nLong Drive Competition at the Driving range prior to start time\n\n  \nWe encourage everyone to wear red\, white\, and blue to celebrate the spirit of the event.
URL:https://www.golfclubofdublin.com/event/stars-stripes-scramble/
CATEGORIES:Golf
ATTACH;FMTTYPE=image/jpeg:https://www.golfclubofdublin.com/wp-content/uploads/sites/8863/2024/05/GCD-Stars-and-Stripes-Scramble-JPG2.jpg
END:VEVENT
BEGIN:VEVENT
DTSTART;TZID=America/New_York:20240614T180000
DTEND;TZID=America/New_York:20240614T210000
DTSTAMP:20260421T051928
CREATED:20240528T174535Z
LAST-MODIFIED:20240528T174535Z
UID:10000039-1718388000-1718398800@www.golfclubofdublin.com
SUMMARY:Couples Twilight Golf
DESCRIPTION:Couples Twilight Golf \nGolf Club of Dublin \n  \nGet ready for a night of golfing fun like no other! Join us for Couples Twilight Golf at the Golf Club of Dublin on Friday\, June 14th\, starting at 6:00 pm. Grab your partner and enjoy 9 holes of golf\, followed by a tasty dinner and exciting games with prizes. Plus\, each couple gets a drink token! Hurry\, registration is limited to the first 36 couples. \n  \nDate: Friday\, June 14 \nTime: 6:00 pm Shotgun Start \nCost: \n\n$110 Per Couple\n$100 Per Columbus Collective Member/Guest Couple\n$90 Per Columbus Collective Member Couple\n\nIncludes: \n\n9 Holes of Golf\nCart\nDinner after Golf\n1 Drink Token\nGames & Prizes\n\nClick HERE to register. \n  \n  \nSecure your spot now! Register before it’s too late!
URL:https://www.golfclubofdublin.com/event/couples-twilight-golf-2/
CATEGORIES:Golf
ATTACH;FMTTYPE=image/jpeg:https://www.golfclubofdublin.com/wp-content/uploads/sites/8863/2024/05/6.14-Couples-JPG.jpg
END:VEVENT
BEGIN:VEVENT
DTSTART;VALUE=DATE:20240517
DTEND;VALUE=DATE:20240518
DTSTAMP:20260421T051928
CREATED:20240528T174731Z
LAST-MODIFIED:20240528T182906Z
UID:10000040-1715904000-1715990399@www.golfclubofdublin.com
SUMMARY:Couples Twilight Golf
DESCRIPTION:
URL:https://www.golfclubofdublin.com/event/couples-twilight-golf-3/
CATEGORIES:Golf
ATTACH;FMTTYPE=image/jpeg:https://www.golfclubofdublin.com/wp-content/uploads/sites/8863/2024/05/Couples-Flyer-5.17.24.jpg
END:VEVENT
BEGIN:VEVENT
DTSTART;VALUE=DATE:20240503
DTEND;VALUE=DATE:20240504
DTSTAMP:20260421T051928
CREATED:20240416T114136Z
LAST-MODIFIED:20240416T114320Z
UID:10000031-1714694400-1714780799@www.golfclubofdublin.com
SUMMARY:Tres De Mayo Golf Scramble
DESCRIPTION:Golf Club of Dublin \nTres De Mayo Golf Outing \n  \nJoin us for the Tres de Mayo Golf Scramble at the Golf Club of Dublin. \n  \nDate: Friday\, May 3\, 2024 \nTime: 2:00 pm Shotgun \nCost: $400 Per Team \nIncludes: \n\nGreen fee\nCart fee\nProximities\n$10 golf shop voucher\nPrizes\nFiesta buffet and a keg of beer after golf\n\nRegistration: Click HERE to register \n\nHouse Margarita & Tequila Specials will be Available!\nCash Skins Game is Available the Day of the Event at Registration.\n\n  \n 
URL:https://www.golfclubofdublin.com/event/tres-de-mayo-golf-outing/
CATEGORIES:Golf
ATTACH;FMTTYPE=image/jpeg:https://www.golfclubofdublin.com/wp-content/uploads/sites/8863/2024/04/GCD-Tres-de-Mayo-Scramble-2024-JPG.jpg
END:VEVENT
BEGIN:VEVENT
DTSTART;VALUE=DATE:20240426
DTEND;VALUE=DATE:20240427
DTSTAMP:20260421T051928
CREATED:20240416T114621Z
LAST-MODIFIED:20240416T114714Z
UID:10000032-1714089600-1714175999@www.golfclubofdublin.com
SUMMARY:Couples Twilight Golf
DESCRIPTION:Couples Twilight Golf \nGolf Club of Dublin \n  \nSubject Line: “Join us for Couples Twilight Golf at Golf Club of Dublin!” \n  \nExperience an unforgettable evening of golf\, dining\, and fun! \n  \nGet ready for a night of golfing fun like no other! Join us for Couples Twilight Golf at the Golf Club of Dublin on Friday\, April 26th\, starting at 6:00 pm. Grab your partner and enjoy 9 holes of golf\, followed by a tasty dinner and exciting games with prizes. Plus\, each couple gets a drink token! Hurry\, registration is limited to the first 30 couples. Click HERE to secure your spot now! \n  \nDate: Friday\, April 26 \nTime: 6:00 pm Shotgun Start \nCost:  \n\n$110 Per Couple\n$100 Per Columbus Collective Member/Guest Couple\n$90 Per Columbus Collective Member Couple\n\nIncludes:  \n\n9 Holes of Golf\nCart\nDinner after Golf\n1 Drink Token\nGames & Prizes\n\nRegistration: Click HERE to register. Limited to the first 30 couples that register. \n  \nClick the below link to register. \nhttps://www.golfclubofdublin.com/product/couples-twilight-golf-april-26/ \n  \n  \nSecure your spot now! Register before it’s too late! \n 
URL:https://www.golfclubofdublin.com/event/couples-twilight-golf/
CATEGORIES:Golf
ATTACH;FMTTYPE=image/jpeg:https://www.golfclubofdublin.com/wp-content/uploads/sites/8863/2024/04/GCD_couples_twilight_golf_04262024-Flyer.jpg
END:VEVENT
BEGIN:VEVENT
DTSTART;VALUE=DATE:20240323
DTEND;VALUE=DATE:20240324
DTSTAMP:20260421T051928
CREATED:20240218T124046Z
LAST-MODIFIED:20240218T124046Z
UID:10000028-1711152000-1711238399@www.golfclubofdublin.com
SUMMARY:March Madness Scramble
DESCRIPTION:Annual March Madness Scramble at the Golf Club of Dublin! \n  \nMark your calendars\, and make sure to join us on Saturday\, March 23rd\, for our upcoming March Madness Scramble at the Golf Club of Dublin. Registration is available online at GolfClubofDublin.com or please call (614) 792-3825 for more information. \n  \nDate: Saturday\, March 23 \nTime: 2:00 pm Shotgun Start \nPlace: Golf Club of Dublin \nCost: $400 per team \nDetails: Includes: Golf\, Cart\, Proximities\, Prizes\, $10 voucher to golf shop\, Tailgate Buffet & Keg Beer during dinner ~ 2nd round games will be on the large screen tv’s upon completion of play for your viewing pleasure! \nRegistration: Click HERE to register. \n  \nJoin us for the ultimate March Madness scramble at the Golf Club of Dublin! Tee up\, team up\, and let the madness begin! Register now and swing into action!
URL:https://www.golfclubofdublin.com/event/march-madness-scramble/
CATEGORIES:Golf
ATTACH;FMTTYPE=image/jpeg:https://www.golfclubofdublin.com/wp-content/uploads/sites/8863/2024/02/GCD-March-Madness-Scramble.jpg
END:VEVENT
BEGIN:VEVENT
DTSTART;TZID=UTC:20231104T100000
DTEND;TZID=UTC:20231104T170000
DTSTAMP:20260421T051928
CREATED:20230925T180304Z
LAST-MODIFIED:20230925T180304Z
UID:10000015-1699092000-1699117200@www.golfclubofdublin.com
SUMMARY:Greenskeeper's Revenge
DESCRIPTION:Join the 4th Annual Greenskeeper’s Revenge – Golf Club of Dublin \n  \nWe are thrilled to announce the return of the highly-anticipated 4th Annual Greenskeeper’s Revenge at the Golf Club of Dublin! Mark your calendars for an unforgettable day of golf\, camaraderie\, and prizes. \n  \nLocation: The Golf Club of Dublin \nDate: Saturday\, November 4th\, 2023 \nTime: 10:00 AM Shotgun Start \nCost: $400.00 Per Team \nFormat: 4- Person Scramble \nIncludes: Golf\, Cart\, Proximities\, Prizes\, $10 Pro Shop Voucher\, Buffet Dinner & Draft Beer \n  \nDon’t miss this opportunity to enjoy a day on the green\, test your skills\, and take home some prizes. Whether you’re a seasoned golfer or just looking for a fun day out\, the Greenskeeper’s Revenge has something for everyone. \n  \nPlease click HERE to register. \n  \n  \nSpace is limited\, so we encourage you to sign up early. Grab your friends and create your dream team. \n  \nJoin us for a day of golf\, fun\, and the chance to be crowned the Greenskeeper’s Revenge champions. We can’t wait to see you there!
URL:https://www.golfclubofdublin.com/event/greenskeepers-revenge/
LOCATION:The Golf Club of Dublin
CATEGORIES:Golf
ATTACH;FMTTYPE=image/jpeg:https://www.golfclubofdublin.com/wp-content/uploads/sites/8863/2023/09/GCD-Greenskeepers-Revenge-QR-UPDATED-3.jpg
END:VEVENT
BEGIN:VEVENT
DTSTART;TZID=UTC:20230804T183000
DTEND;TZID=UTC:20230804T213000
DTSTAMP:20260421T051928
CREATED:20230801T014554Z
LAST-MODIFIED:20230801T014554Z
UID:10000006-1691173800-1691184600@www.golfclubofdublin.com
SUMMARY:Live Music on the Patio- 6:30 pm-9:30 pm
DESCRIPTION:Join us for Live Music on the Patio \nFeaturing John Schwab & Molly \n6:30 pm-9:30 pm \n 
URL:https://www.golfclubofdublin.com/event/live-music-on-the-patio-630-pm-930-pm/
CATEGORIES:Golf,Junior Programming,Player Developement,Pub
ATTACH;FMTTYPE=image/png:https://www.golfclubofdublin.com/wp-content/uploads/sites/8863/2023/07/8.4.png
END:VEVENT
END:VCALENDAR